BEGIN:VCALENDAR
VERSION:2.0
PRODID:-//Suveto - ECPv6.15.20//NONSGML v1.0//EN
CALSCALE:GREGORIAN
METHOD:PUBLISH
X-WR-CALNAME:Suveto
X-ORIGINAL-URL:https://suveto.com
X-WR-CALDESC:Events for Suveto
REFRESH-INTERVAL;VALUE=DURATION:PT1H
X-Robots-Tag:noindex
X-PUBLISHED-TTL:PT1H
BEGIN:VTIMEZONE
TZID:America/Chicago
BEGIN:DAYLIGHT
TZOFFSETFROM:-0600
TZOFFSETTO:-0500
TZNAME:CDT
DTSTART:20250309T080000
END:DAYLIGHT
BEGIN:STANDARD
TZOFFSETFROM:-0500
TZOFFSETTO:-0600
TZNAME:CST
DTSTART:20251102T070000
END:STANDARD
BEGIN:DAYLIGHT
TZOFFSETFROM:-0600
TZOFFSETTO:-0500
TZNAME:CDT
DTSTART:20260308T080000
END:DAYLIGHT
BEGIN:STANDARD
TZOFFSETFROM:-0500
TZOFFSETTO:-0600
TZNAME:CST
DTSTART:20261101T070000
END:STANDARD
BEGIN:DAYLIGHT
TZOFFSETFROM:-0600
TZOFFSETTO:-0500
TZNAME:CDT
DTSTART:20270314T080000
END:DAYLIGHT
BEGIN:STANDARD
TZOFFSETFROM:-0500
TZOFFSETTO:-0600
TZNAME:CST
DTSTART:20271107T070000
END:STANDARD
END:VTIMEZONE
BEGIN:VEVENT
DTSTART;TZID=America/Chicago:20260401T180000
DTEND;TZID=America/Chicago:20260401T190000
DTSTAMP:20260420T153336
CREATED:20260325T183827Z
LAST-MODIFIED:20260325T183827Z
UID:33721-1775066400-1775070000@suveto.com
SUMMARY:Beat Burnout with an AI Scribe
DESCRIPTION:Target Audience – Veterinarians\, technicians and practice managers \nREGISTER HERE > \nYou don’t need to be a tech enthusiast! Whether you’re skeptical\, curious\, or just tired of staying late to finish records\, this session will show you how to harness AI-tools to beat burnout while creating records AND connections you can be proud of. \nThe more we learn about these tools\, the more we see which clinical tasks benefit from AI and which still need the human touch. \nWhat We’ll Cover: \n\nThe top three things that matter most when evaluating an AI scribe tool\nUnderstand what an AI scribe actually is (and isn’t)\nHow an AI scribe captures details you might miss & create smoother workflows\nActual cost-benefit math to help vets decide if adopting an AI scribe will benefit them\nPractical guidance on client consent
URL:https://suveto.com/event/beat-burnout-with-an-ai-scribe/
CATEGORIES:Growth & Well-being,Harbor.vet,Suveto
ATTACH;FMTTYPE=image/jpeg:https://suveto.com/wp-content/uploads/2026/03/Copy-of-Outside-the-Box-Event-Banner.jpg
END:VEVENT
END:VCALENDAR