BEGIN:VCALENDAR
VERSION:2.0
PRODID:-//Suveto - ECPv6.15.20//NONSGML v1.0//EN
CALSCALE:GREGORIAN
METHOD:PUBLISH
X-WR-CALNAME:Suveto
X-ORIGINAL-URL:https://suveto.com
X-WR-CALDESC:Events for Suveto
REFRESH-INTERVAL;VALUE=DURATION:PT1H
X-Robots-Tag:noindex
X-PUBLISHED-TTL:PT1H
BEGIN:VTIMEZONE
TZID:America/Chicago
BEGIN:DAYLIGHT
TZOFFSETFROM:-0600
TZOFFSETTO:-0500
TZNAME:CDT
DTSTART:20230312T080000
END:DAYLIGHT
BEGIN:STANDARD
TZOFFSETFROM:-0500
TZOFFSETTO:-0600
TZNAME:CST
DTSTART:20231105T070000
END:STANDARD
BEGIN:DAYLIGHT
TZOFFSETFROM:-0600
TZOFFSETTO:-0500
TZNAME:CDT
DTSTART:20240310T080000
END:DAYLIGHT
BEGIN:STANDARD
TZOFFSETFROM:-0500
TZOFFSETTO:-0600
TZNAME:CST
DTSTART:20241103T070000
END:STANDARD
BEGIN:DAYLIGHT
TZOFFSETFROM:-0600
TZOFFSETTO:-0500
TZNAME:CDT
DTSTART:20250309T080000
END:DAYLIGHT
BEGIN:STANDARD
TZOFFSETFROM:-0500
TZOFFSETTO:-0600
TZNAME:CST
DTSTART:20251102T070000
END:STANDARD
END:VTIMEZONE
BEGIN:VEVENT
DTSTART;TZID=America/Chicago:20240312T190000
DTEND;TZID=America/Chicago:20240312T200000
DTSTAMP:20260421T070141
CREATED:20240205T212331Z
LAST-MODIFIED:20240205T212331Z
UID:20750-1710270000-1710273600@suveto.com
SUMMARY:NAVLE Trivia Night | Test Your Knowledge with Harbor Vets
DESCRIPTION:Prepare for NAVLE with fun and friends! It’s almost time for the big exam\, and to help you get ready\, we’re hosting a NAVLE trivia night and giving away over $500 in prizes. Test your knowledge with NAVLE sample questions from Zuku Review led by Dr. Rob Trimble. Grab some friends and form a team or join a virtual table on the day of the event on Remo. Let’s GO learn and laugh! \nRegister here>
URL:https://suveto.com/event/navle-trivia-night-test-your-knowledge-with-harbor-vets/
CATEGORIES:Harbor.vet,Suveto
ATTACH;FMTTYPE=image/jpeg:https://suveto.com/wp-content/uploads/2023/08/Harbor_NAVLE_Trivia_2.jpg
END:VEVENT
END:VCALENDAR