BEGIN:VCALENDAR
VERSION:2.0
PRODID:-//Suveto - ECPv6.15.20//NONSGML v1.0//EN
CALSCALE:GREGORIAN
METHOD:PUBLISH
X-WR-CALNAME:Suveto
X-ORIGINAL-URL:https://suveto.com
X-WR-CALDESC:Events for Suveto
REFRESH-INTERVAL;VALUE=DURATION:PT1H
X-Robots-Tag:noindex
X-PUBLISHED-TTL:PT1H
BEGIN:VTIMEZONE
TZID:America/New_York
BEGIN:DAYLIGHT
TZOFFSETFROM:-0500
TZOFFSETTO:-0400
TZNAME:EDT
DTSTART:20220313T070000
END:DAYLIGHT
BEGIN:STANDARD
TZOFFSETFROM:-0400
TZOFFSETTO:-0500
TZNAME:EST
DTSTART:20221106T060000
END:STANDARD
BEGIN:DAYLIGHT
TZOFFSETFROM:-0500
TZOFFSETTO:-0400
TZNAME:EDT
DTSTART:20230312T070000
END:DAYLIGHT
BEGIN:STANDARD
TZOFFSETFROM:-0400
TZOFFSETTO:-0500
TZNAME:EST
DTSTART:20231105T060000
END:STANDARD
BEGIN:DAYLIGHT
TZOFFSETFROM:-0500
TZOFFSETTO:-0400
TZNAME:EDT
DTSTART:20240310T070000
END:DAYLIGHT
BEGIN:STANDARD
TZOFFSETFROM:-0400
TZOFFSETTO:-0500
TZNAME:EST
DTSTART:20241103T060000
END:STANDARD
END:VTIMEZONE
BEGIN:VEVENT
DTSTART;TZID=America/New_York:20230228T190000
DTEND;TZID=America/New_York:20230228T200000
DTSTAMP:20260420T221018
CREATED:20230130T164912Z
LAST-MODIFIED:20230919T185739Z
UID:10000038-1677610800-1677614400@suveto.com
SUMMARY:NAVAS Education Hour: Veterinary Anesthesia Event | Suveto
DESCRIPTION:Calling all anesthesia-enthusiasts! Do you have questions about providing excellent anesthesia care? Do you wish that you could have access to an anesthesiologist? \nSuveto and NAVAS invite you to the NAVAS Education Hour with Board Certified Specialists in Veterinary Anesthesia and Analgesia® from the North American Veterinary Anesthesia Society. Discuss your anesthesia and analgesia questions with experts in the field in this live\, interactive\, virtual forum. \nJoin us Tuesday\, February 28th at 7pm EST/6pm CST \nRegister for the live event here \nBecome a NAVAS member here 
URL:https://suveto.com/event/cnavas-education-hour-enhancing-veterinary-anesthesia-expertise/
CATEGORIES:Growth & Well-being,Suveto
ATTACH;FMTTYPE=image/png:https://suveto.com/wp-content/uploads/2023/01/NAVAS_Event.png
END:VEVENT
END:VCALENDAR